Workbook

Sheet Motorisation_2023
A1: Insee | B1: Dép. | C1: Commune | D1: Intercommunalité | E1: Entités territoriales du SDRIF-E | F1: Ménages en 2023 | G1: Nombre de ménages ayant au moins une voiture en 2023 | H1: Ménages ayant une voiture en 2023 | I1: Ménages ayant deux voitures ou + en 2023 | J1: Nb moyen de voitures des mén. multimotor. (EGT) | K1: Part des ménages motorisés (%) en 2023 Calcul automatique | L1: Taux de motorisation (2023) Calcul automatique
A2: 75101 | B2: 75 | C2: Paris 1er arrondissement | D2: T01 - Paris | E2: Hypercentre | F2: =VLOOKUP(A2,Base_Insee_Logts_2023!A:N,10,FALSE) -> 9076.4419 | G2: =VLOOKUP(A2,Base_Insee_Logts_2023!A:N,12,FALSE) -> 1906.8209 | H2: =VLOOKUP(A2,Base_Insee_Logts_2023!A:N,13,FALSE) -> 1709.1339 | I2: =VLOOKUP(A2,Base_Insee_Logts_2023!A:N,14,FALSE) -> 197.68704 | J2: 2 | K2: =G2/F2 -> 0.21008463 | L2: =(H2+I2*J2)/F2 -> 0.23186486
A3: 75102 | B3: 75 | C3: Paris 2ème arrondissement | D3: T01 - Paris | E3: Hypercentre | F3: =VLOOKUP(A3,Base_Insee_Logts_2023!A:N,10,FALSE) -> 11842.264 | G3: =VLOOKUP(A3,Base_Insee_Logts_2023!A:N,12,FALSE) -> 1996.9779 | H3: =VLOOKUP(A3,Base_Insee_Logts_2023!A:N,13,FALSE) -> 1797.4055 | I3: =VLOOKUP(A3,Base_Insee_Logts_2023!A:N,14,FALSE) -> 199.57243 | J3: 2 | K3: =G3/F3 -> 0.16863143 | L3: =(H3+I3*J3)/F3 -> 0.18548398
A4: 75103 | B4: 75 | C4: Paris 3ème arrondissement | D4: T01 - Paris | E4: Hypercentre | F4: =VLOOKUP(A4,Base_Insee_Logts_2023!A:N,10,FALSE) -> 19267.084 | G4: =VLOOKUP(A4,Base_Insee_Logts_2023!A:N,12,FALSE) -> 3726.4582 | H4: =VLOOKUP(A4,Base_Insee_Logts_2023!A:N,13,FALSE) -> 3355.1165 | I4: =VLOOKUP(A4,Base_Insee_Logts_2023!A:N,14,FALSE) -> 371.34166 | J4: 2 | K4: =G4/F4 -> 0.19341059 | L4: =(H4+I4*J4)/F4 -> 0.21268397
A5: 75104 | B5: 75 | C5: Paris 4ème arrondissement | D5: T01 - Paris | E5: Hypercentre | F5: =VLOOKUP(A5,Base_Insee_Logts_2023!A:N,10,FALSE) -> 15770.356 | G5: =VLOOKUP(A5,Base_Insee_Logts_2023!A:N,12,FALSE) -> 3602.1124 | H5: =VLOOKUP(A5,Base_Insee_Logts_2023!A:N,13,FALSE) -> 3232.9673 | I5: =VLOOKUP(A5,Base_Insee_Logts_2023!A:N,14,FALSE) -> 369.14516 | J5: 2 | K5: =G5/F5 -> 0.22841034 | L5: =(H5+I5*J5)/F5 -> 0.25181787
A6: 75105 | B6: 75 | C6: Paris 5ème arrondissement | D6: T01 - Paris | E6: Hypercentre | F6: =VLOOKUP(A6,Base_Insee_Logts_2023!A:N,10,FALSE) -> 31343.726 | G6: =VLOOKUP(A6,Base_Insee_Logts_2023!A:N,12,FALSE) -> 8020.8428 | H6: =VLOOKUP(A6,Base_Insee_Logts_2023!A:N,13,FALSE) -> 7179.154 | I6: =VLOOKUP(A6,Base_Insee_Logts_2023!A:N,14,FALSE) -> 841.68877 | J6: 2 | K6: =G6/F6 -> 0.25589947 | L6: =(H6+I6*J6)/F6 -> 0.28275297
A7: 75106 | B7: 75 | C7: Paris 6ème arrondissement | D7: T01 - Paris | E7: Hypercentre | F7: =VLOOKUP(A7,Base_Insee_Logts_2023!A:N,10,FALSE) -> 22287.384 | G7: =VLOOKUP(A7,Base_Insee_Logts_2023!A:N,12,FALSE) -> 7110.8404 | H7: =VLOOKUP(A7,Base_Insee_Logts_2023!A:N,13,FALSE) -> 6086.248 | I7: =VLOOKUP(A7,Base_Insee_Logts_2023!A:N,14,FALSE) -> 1024.5924 | J7: 2 | K7: =G7/F7 -> 0.31905226 | L7: =(H7+I7*J7)/F7 -> 0.36502412
A8: 75107 | B8: 75 | C8: Paris 7ème arrondissement | D8: T01 - Paris | E8: Hypercentre | F8: =VLOOKUP(A8,Base_Insee_Logts_2023!A:N,10,FALSE) -> 26038.343 | G8: =VLOOKUP(A8,Base_Insee_Logts_2023!A:N,12,FALSE) -> 10811.635 | H8: =VLOOKUP(A8,Base_Insee_Logts_2023!A:N,13,FALSE) -> 8680.7424 | I8: =VLOOKUP(A8,Base_Insee_Logts_2023!A:N,14,FALSE) -> 2130.893 | J8: 2 | K8: =G8/F8 -> 0.41521979 | L8: =(H8+I8*J8)/F8 -> 0.49705653
A9: 75108 | B9: 75 | C9: Paris 8ème arrondissement | D9: T01 - Paris | E9: Hypercentre | F9: =VLOOKUP(A9,Base_Insee_Logts_2023!A:N,10,FALSE) -> 17358.272 | G9: =VLOOKUP(A9,Base_Insee_Logts_2023!A:N,12,FALSE) -> 7249.4641 | H9: =VLOOKUP(A9,Base_Insee_Logts_2023!A:N,13,FALSE) -> 5921.0317 | I9: =VLOOKUP(A9,Base_Insee_Logts_2023!A:N,14,FALSE) -> 1328.4325 | J9: 2 | K9: =G9/F9 -> 0.41763742 | L9: =(H9+I9*J9)/F9 -> 0.49416764
A10: 75109 | B10: 75 | C10: Paris 9ème arrondissement | D10: T01 - Paris | E10: Hypercentre | F10: =VLOOKUP(A10,Base_Insee_Logts_2023!A:N,10,FALSE) -> 31222.465 | G10: =VLOOKUP(A10,Base_Insee_Logts_2023!A:N,12,FALSE) -> 7607.2913 | H10: =VLOOKUP(A10,Base_Insee_Logts_2023!A:N,13,FALSE) -> 6962.9994 | I10: =VLOOKUP(A10,Base_Insee_Logts_2023!A:N,14,FALSE) -> 644.29194 | J10: 2 | K10: =G10/F10 -> 0.243648 | L10: =(H10+I10*J10)/F10 -> 0.26428353
A11: 75110 | B11: 75 | C11: Paris 10ème arrondissement | D11: T01 - Paris | E11: Hypercentre | F11: =VLOOKUP(A11,Base_Insee_Logts_2023!A:N,10,FALSE) -> 45658.378 | G11: =VLOOKUP(A11,Base_Insee_Logts_2023!A:N,12,FALSE) -> 9392.8046 | H11: =VLOOKUP(A11,Base_Insee_Logts_2023!A:N,13,FALSE) -> 8469.0867 | I11: =VLOOKUP(A11,Base_Insee_Logts_2023!A:N,14,FALSE) -> 923.71786 | J11: 2 | K11: =G11/F11 -> 0.20571919 | L11: =(H11+I11*J11)/F11 -> 0.22595026
A12: 75111 | B12: 75 | C12: Paris 11ème arrondissement | D12: T01 - Paris | E12: Hypercentre | F12: =VLOOKUP(A12,Base_Insee_Logts_2023!A:N,10,FALSE) -> 81199.835 | G12: =VLOOKUP(A12,Base_Insee_Logts_2023!A:N,12,FALSE) -> 19703.503 | H12: =VLOOKUP(A12,Base_Insee_Logts_2023!A:N,13,FALSE) -> 18062.947 | I12: =VLOOKUP(A12,Base_Insee_Logts_2023!A:N,14,FALSE) -> 1640.5561 | J12: 2 | K12: =G12/F12 -> 0.24265447 | L12: =(H12+I12*J12)/F12 -> 0.26285841
A13: 75112 | B13: 75 | C13: Paris 12ème arrondissement | D13: T01 - Paris | E13: Hypercentre | F13: =VLOOKUP(A13,Base_Insee_Logts_2023!A:N,10,FALSE) -> 73308.359 | G13: =VLOOKUP(A13,Base_Insee_Logts_2023!A:N,12,FALSE) -> 23894.746 | H13: =VLOOKUP(A13,Base_Insee_Logts_2023!A:N,13,FALSE) -> 21370.083 | I13: =VLOOKUP(A13,Base_Insee_Logts_2023!A:N,14,FALSE) -> 2524.6631 | J13: 2 | K13: =G13/F13 -> 0.32594845 | L13: =(H13+I13*J13)/F13 -> 0.36038741
... A1286: 95690 | B1286: 95 | C1286: Wy-dit-Joli-Village | D1286: CC du Vexin Val de seine | E1286: Communes rurales | F1286: =VLOOKUP(A1286,Base_Insee_Logts_2023!A:N,10,FALSE) -> 151.85798 | G1286: =VLOOKUP(A1286,Base_Insee_Logts_2023!A:N,12,FALSE) -> 146.79893 | H1286: =VLOOKUP(A1286,Base_Insee_Logts_2023!A:N,13,FALSE) -> 59.33863 | I1286: =VLOOKUP(A1286,Base_Insee_Logts_2023!A:N,14,FALSE) -> 87.4603 | J1286: 2.3 | K1286: =G1286/F1286 -> 0.96668565 | L1286: =(H1286+I1286*J1286)/F1286 -> 1.7154009

Sheet Base_Insee_Logts_2023
A1: Code géographique | C1: Libellé géographique | D1: Logements (princ) | E1: Résid principales (princ) | F1: Résid secondaires et logts occasionnels (princ) | G1: Logements vacants (princ) | H1: Maisons (princ) | I1: Appartements (princ) | J1: Ménages (princ) | K1: Ménages au moins un parking (princ) | L1: Ménages au moins une voiture (princ) | M1: Ménages une voiture (princ) | N1: Ménages deux voitures ou plus (princ)
A2: 75101 | B2: =LEFT(A2,2) -> 75 | C2: Paris 1er Arrondissement | D2: 13897.968 | E2: 9076.4419 | F2: 3125.9633 | G2: 1695.563 | H2: 29.08362 | I2: 13739.296 | J2: 9076.4419 | K2: 1008.963 | L2: 1906.8209 | M2: 1709.1339 | N2: 197.68704
A3: 75102 | B3: =LEFT(A3,2) -> 75 | C3: Paris 2e Arrondissement | D3: 17363.08 | E3: 11842.264 | F3: 3107.1287 | G3: 2413.6873 | H3: 72.62395 | I3: 17100.543 | J3: 11842.264 | K3: 1172.0318 | L3: 1996.9779 | M3: 1797.4055 | N3: 199.57243
A4: 75103 | B4: =LEFT(A4,2) -> 75 | C4: Paris 3e Arrondissement | D4: 26437.299 | E4: 19267.084 | F4: 4582.5736 | G4: 2587.641 | H4: 108.73936 | I4: 26029.075 | J4: 19267.084 | K4: 2317.0628 | L4: 3726.4582 | M4: 3355.1165 | N4: 371.34166
A5: 75104 | B5: =LEFT(A5,2) -> 75 | C5: Paris 4e Arrondissement | D5: 23076.831 | E5: 15770.356 | F5: 4530.0001 | G5: 2776.4746 | H5: 80.39427 | I5: 22588.688 | J5: 15770.356 | K5: 2422.0284 | L5: 3602.1124 | M5: 3232.9673 | N5: 369.14516
A6: 75105 | B6: =LEFT(A6,2) -> 75 | C6: Paris 5e Arrondissement | D6: 39775.903 | E6: 31343.726 | F6: 5807.5805 | G6: 2624.5963 | H6: 252.29948 | I6: 38842.835 | J6: 31343.726 | K6: 5441.6309 | L6: 8020.8428 | M6: 7179.154 | N6: 841.68877
A7: 75106 | B7: =LEFT(A7,2) -> 75 | C7: Paris 6e Arrondissement | D7: 31491.052 | E7: 22287.384 | F7: 6791.7094 | G7: 2411.9578 | H7: 220.95645 | I7: 30640.512 | J7: 22287.384 | K7: 4938.6308 | L7: 7110.8404 | M7: 6086.248 | N7: 1024.5924
A8: 75107 | B8: =LEFT(A8,2) -> 75 | C8: Paris 7e Arrondissement | D8: 39265.348 | E8: 26038.343 | F8: 9628.2725 | G8: 3598.7327 | H8: 220.87913 | I8: 38210.287 | J8: 26038.343 | K8: 6256.0594 | L8: 10811.635 | M8: 8680.7424 | N8: 2130.893
A9: 75108 | B9: =LEFT(A9,2) -> 75 | C9: Paris 8e Arrondissement | D9: 27411.106 | E9: 17358.272 | F9: 6330.6976 | G9: 3722.1361 | H9: 85.36432 | I9: 26799.979 | J9: 17358.272 | K9: 4098.0716 | L9: 7249.4641 | M9: 5921.0317 | N9: 1328.4325
A10: 75109 | B10: =LEFT(A10,2) -> 75 | C10: Paris 9e Arrondissement | D10: 41004.478 | E10: 31222.465 | F10: 6201.7908 | G10: 3580.2222 | H10: 138.16685 | I10: 40006.861 | J10: 31222.465 | K10: 4786.8952 | L10: 7607.2913 | M10: 6962.9994 | N10: 644.29194
A11: 75110 | B11: =LEFT(A11,2) -> 75 | C11: Paris 10e Arrondissement | D11: 60012.414 | E11: 45658.378 | F11: 5817.7933 | G11: 8536.2426 | H11: 234.93903 | I11: 58492.171 | J11: 45658.378 | K11: 7781.2134 | L11: 9392.8046 | M11: 8469.0867 | N11: 923.71786
A12: 75111 | B12: =LEFT(A12,2) -> 75 | C12: Paris 11e Arrondissement | D12: 101509.75 | E12: 81199.835 | F12: 7990.7961 | G12: 12319.115 | H12: 351.9697 | I12: 99297.735 | J12: 81199.835 | K12: 18512.915 | L12: 19703.503 | M12: 18062.947 | N12: 1640.5561
A13: 75112 | B13: =LEFT(A13,2) -> 75 | C13: Paris 12e Arrondissement | D13: 88221.799 | E13: 73308.359 | F13: 7873.4596 | G13: 7039.9807 | H13: 469.75527 | I13: 85580.429 | J13: 73308.359 | K13: 21581.403 | L13: 23894.746 | M13: 21370.083 | N13: 2524.6631
... A1287: 95690 | B1287: =LEFT(A1287,2) -> 95 | C1287: Wy-dit-Joli-Village | D1287: 179.85798 | E1287: 151.85798 | F1287: 18 | G1287: 10 | H1287: 175.80005 | I1287: 4.05792 | J1287: 151.85798 | K1287: 125.89124 | L1287: 146.79893 | M1287: 59.33863 | N1287: 87.4603
